BEGIN:VCALENDAR
VERSION:2.0
PRODID:-//HSJB - ECPv5.13.0//NONSGML v1.0//EN
CALSCALE:GREGORIAN
METHOD:PUBLISH
X-WR-CALNAME:HSJB
X-ORIGINAL-URL:https://www.hsjb.de
X-WR-CALDESC:Veranstaltungen für HSJB
BEGIN:VTIMEZONE
TZID:Europe/Berlin
BEGIN:DAYLIGHT
TZOFFSETFROM:+0100
TZOFFSETTO:+0200
TZNAME:CEST
DTSTART:20240331T010000
END:DAYLIGHT
BEGIN:STANDARD
TZOFFSETFROM:+0200
TZOFFSETTO:+0100
TZNAME:CET
DTSTART:20241027T010000
END:STANDARD
END:VTIMEZONE
BEGIN:VEVENT
DTSTART;VALUE=DATE:20241130
DTEND;VALUE=DATE:20241201
DTSTAMP:20260424T104410
CREATED:20240807T192910Z
LAST-MODIFIED:20240807T194020Z
UID:12108-1732924800-1733011199@www.hsjb.de
SUMMARY:1. Deutsche Unimeisterschaft Schnellschach 2024
DESCRIPTION:Ausschreibung [PDF]
URL:https://www.hsjb.de/termin/1-deutsche-unimeisterschaft-schnellschach-2024/
LOCATION:Senatssaal Humboldt-Universität zu Berlin\, Unter den Linden 6\, Berlin\, 10117\, Deutschland
CATEGORIES:Meisterschaften,Turniere
END:VEVENT
END:VCALENDAR