BEGIN:VCALENDAR
VERSION:2.0
PRODID:-//HSJB - ECPv5.13.0//NONSGML v1.0//EN
CALSCALE:GREGORIAN
METHOD:PUBLISH
X-WR-CALNAME:HSJB
X-ORIGINAL-URL:https://www.hsjb.de
X-WR-CALDESC:Veranstaltungen für HSJB
BEGIN:VTIMEZONE
TZID:Europe/Berlin
BEGIN:DAYLIGHT
TZOFFSETFROM:+0100
TZOFFSETTO:+0200
TZNAME:CEST
DTSTART:20180325T010000
END:DAYLIGHT
BEGIN:STANDARD
TZOFFSETFROM:+0200
TZOFFSETTO:+0100
TZNAME:CET
DTSTART:20181028T010000
END:STANDARD
END:VTIMEZONE
BEGIN:VEVENT
DTSTART;VALUE=DATE:20181201
DTEND;VALUE=DATE:20181202
DTSTAMP:20260420T123359
CREATED:20180819T161228Z
LAST-MODIFIED:20180902T143332Z
UID:3399-1543622400-1543708799@www.hsjb.de
SUMMARY:13. Hamburger Grundschulschachtag
DESCRIPTION:Hier finden Sie die Ausschreibung der Veranstaltung: \nAusschreibung Grundschultag 2018
URL:https://www.hsjb.de/termin/13-hamburger-grundschulschachtag/
LOCATION:Stadtteilschule Barmbek\, Standort Am Stadtpark (Fraenkelstraße)\, Fraenkelstraße 3\, Hamburg\, 22307\, Deutschland
CATEGORIES:Turniere
END:VEVENT
END:VCALENDAR