BEGIN:VCALENDAR
VERSION:2.0
PRODID:-//HSJB - ECPv5.13.0//NONSGML v1.0//EN
CALSCALE:GREGORIAN
METHOD:PUBLISH
X-WR-CALNAME:HSJB
X-ORIGINAL-URL:https://www.hsjb.de
X-WR-CALDESC:Veranstaltungen für HSJB
BEGIN:VTIMEZONE
TZID:Europe/Berlin
BEGIN:DAYLIGHT
TZOFFSETFROM:+0100
TZOFFSETTO:+0200
TZNAME:CEST
DTSTART:20250330T010000
END:DAYLIGHT
BEGIN:STANDARD
TZOFFSETFROM:+0200
TZOFFSETTO:+0100
TZNAME:CET
DTSTART:20251026T010000
END:STANDARD
END:VTIMEZONE
BEGIN:VEVENT
DTSTART;VALUE=DATE:20251107
DTEND;VALUE=DATE:20251110
DTSTAMP:20260422T105442
CREATED:20250924T202518Z
LAST-MODIFIED:20250924T202949Z
UID:13222-1762473600-1762732799@www.hsjb.de
SUMMARY:17. Schulschachkongress
DESCRIPTION:Tagung in Dormagen-Knechtsteden \nInfos\, Programm\, Zeitplan und Anmeldung auf der Seite der DSJ [Link] \nSchachgruppe vom Norbert-Gymnasium in der Klosteranlage Dormagen-Knechtsteden\n 
URL:https://www.hsjb.de/termin/17-schulschachkongress/
CATEGORIES:Fortbildung
ORGANIZER;CN="Deutsche%20Schachjugend%20%28DSJ%29":MAILTO:geschaeftsstelle@deutsche-schachjugend.de
END:VEVENT
END:VCALENDAR