BEGIN:VCALENDAR
VERSION:2.0
PRODID:-//HSJB - ECPv5.13.0//NONSGML v1.0//EN
CALSCALE:GREGORIAN
METHOD:PUBLISH
X-WR-CALNAME:HSJB
X-ORIGINAL-URL:https://www.hsjb.de
X-WR-CALDESC:Veranstaltungen für HSJB
BEGIN:VTIMEZONE
TZID:Europe/Berlin
BEGIN:DAYLIGHT
TZOFFSETFROM:+0100
TZOFFSETTO:+0200
TZNAME:CEST
DTSTART:20220327T010000
END:DAYLIGHT
BEGIN:STANDARD
TZOFFSETFROM:+0200
TZOFFSETTO:+0100
TZNAME:CET
DTSTART:20221030T010000
END:STANDARD
END:VTIMEZONE
BEGIN:VEVENT
DTSTART;TZID=Europe/Berlin:20221203T150000
DTEND;TZID=Europe/Berlin:20221203T173000
DTSTAMP:20260421T132946
CREATED:20221109T170939Z
LAST-MODIFIED:20221111T210548Z
UID:9561-1670079600-1670088600@www.hsjb.de
SUMMARY:2. Hamburger Grundschulschachtag online
DESCRIPTION:Der Grundschultag ist für alle schachbegeisterten Grundschüler Hamburgs gedacht. In diesem Jahr ist der Grundschulschachtag im April 2023 geplant. Wer im Dezember nicht auf Schach\, Weihnachtsfrauen und Weihnachtsmänner verzichten möchte\, kann hier dabei sein. \n  \nTermin:\nSamstag\, 03. Dezember 2022 \nBeginn Vorprogramm 15.00 Uhr\, Turnierbeginn 15.30 Uhr \ngemeinsame Siegerehrung ca. 17.10 Uhr \n  \nOrt:                    \nLichess.org (https://lichess.org/team/schulschach-in-hamburg) \n  \nSpielmodus:        \nTeam-Turnier im Arena-Modus  \nGesamtspielzeit des Turnieres: 90 Minuten. Die Bedenkzeit beträgt pro Partie 10 Minuten + 5 Sekunden Bonus pro Zug für jeden Spieler. Nach Ende einer Partie startet nach kurzer Wartezeit die nächste Partie. Pro Schule gehen die besten 8 Einzelergebnisse in die Teamwertung ein. Es gibt eine Einzelwertung und eine Teamwertung \n  \nAnmeldung:\nDie Anmeldung einer Schule erfolgt über den Schulschachgruppenleiter. Einzelanmeldungen von Spielerinnen/Spielern können nur über ihren Schachgruppenleiter erfolgen. \nNach der Meldung des Teams erhalten die Teamleiter weitere technische Informationen per E-Mail zugeschickt. \n  \nHier [Link] geht es zum Meldeportal für Schulschachgruppenleiterinnen und -leiter. \nHier [Link] geht es zur Ausschreibung. \n  \nEs gibt an der Schule bisher keine Schulschachgruppe? Kein Problem\, du kannst trotzdem als Einzelspieler teilnehmen oder mit anderen Kindern Deiner Schule noch ein Team bilden. Bitte dafür bei Hendrik Schüler unter E-Mail h [dot] schueler [at] gmx [dot] net oder Mobil +49 171 9051133 melden. \n  \nAnmeldeschluss    \nMittwoch\, 01. Dezember 2022 (Meldung des Teams beim Fachausschuss). Die Meldung der Spieler eines Teams kann kurzfristig erfolgen. \n  \nTeilnahme:\nTeilnahmeberechtigt sind alle Schüler\, die zum Turnierzeitpunkt eine Hamburger Grundschule besuchen. \n  \nPreise:\nDie erfolgreichsten Spieler erhalten Pokale.
URL:https://www.hsjb.de/termin/2-hamburger-grundschulschachtag-online/
LOCATION:Lichess
CATEGORIES:Grundschulschachtag,Meisterschaften
END:VEVENT
END:VCALENDAR