BEGIN:VCALENDAR
VERSION:2.0
PRODID:-//HSJB - ECPv5.13.0//NONSGML v1.0//EN
CALSCALE:GREGORIAN
METHOD:PUBLISH
X-WR-CALNAME:HSJB
X-ORIGINAL-URL:https://www.hsjb.de
X-WR-CALDESC:Veranstaltungen für HSJB
BEGIN:VTIMEZONE
TZID:Europe/Berlin
BEGIN:DAYLIGHT
TZOFFSETFROM:+0100
TZOFFSETTO:+0200
TZNAME:CEST
DTSTART:20210328T010000
END:DAYLIGHT
BEGIN:STANDARD
TZOFFSETFROM:+0200
TZOFFSETTO:+0100
TZNAME:CET
DTSTART:20211031T010000
END:STANDARD
END:VTIMEZONE
BEGIN:VEVENT
DTSTART;VALUE=DATE:20211017
DTEND;VALUE=DATE:20211024
DTSTAMP:20260422T124447
CREATED:20210708T180830Z
LAST-MODIFIED:20210708T180830Z
UID:7723-1634428800-1635033599@www.hsjb.de
SUMMARY:21. Offene U8 Meisterschaft 2021 in Sebnitz
DESCRIPTION:Teilnehmer: Alle Spieler und Spielerinnen geboren ab 01.01.2013\nModus: 9 Runden Schweizer System. Mädchen und Jungen spielen in einem Turnier\, werden aber getrennt gewertet. Das Turnier wird nach DWZ ausgewertet.\nAusschreibung\nAnmeldung bis 04.10.2021 online oder per E-Mail: iemu8 [at] jugendschachbund-sachsen [dot] com
URL:https://www.hsjb.de/termin/21-offene-u8-meisterschaft-2021-in-sebnitz/
LOCATION:Kinder- und Erholungszentrum (KiEZ) Sebnitz\, Bergweg 28\, Sebnitz\, Sachsen\, 01855\, Deutschland
CATEGORIES:Turniere
END:VEVENT
END:VCALENDAR