BEGIN:VCALENDAR
VERSION:2.0
PRODID:-//HSJB - ECPv5.13.0//NONSGML v1.0//EN
CALSCALE:GREGORIAN
METHOD:PUBLISH
X-WR-CALNAME:HSJB
X-ORIGINAL-URL:https://www.hsjb.de
X-WR-CALDESC:Veranstaltungen für HSJB
BEGIN:VTIMEZONE
TZID:Europe/Berlin
BEGIN:DAYLIGHT
TZOFFSETFROM:+0100
TZOFFSETTO:+0200
TZNAME:CEST
DTSTART:20200329T010000
END:DAYLIGHT
BEGIN:STANDARD
TZOFFSETFROM:+0200
TZOFFSETTO:+0100
TZNAME:CET
DTSTART:20201025T010000
END:STANDARD
END:VTIMEZONE
BEGIN:VEVENT
DTSTART;VALUE=DATE:20200529
DTEND;VALUE=DATE:20200615
DTSTAMP:20260420T230437
CREATED:20200513T130110Z
LAST-MODIFIED:20200513T192912Z
UID:6378-1590710400-1592179199@www.hsjb.de
SUMMARY:3. Neunkirchener Online-Schach-Open
DESCRIPTION:Online-Open vom 29.5. bis 14.6.2020 mit langer Bedenkzeit \nOnline-Blitz- und Schnellschachturniere gibt es genügend. Aber reicht Dir das??? \nDass auch Online-Turniere mit langer Bedenkzeit möglich sind\, zeigten die Teilnehmer aus 27 Vereinen von Kiel bis Vaterstetten im 1. Turnier mit vielen spannenden Partien. Beim 2. Turnier waren es schon 63 Spieler aus 41 deutschen Vereinen aus 12 Bundesländern von der Ostsee bis zum Bodensee.\nNun veranstaltet der TSV Neunkirchen a.Br. für alle Liebhaber langer\, ernsthafter Schachpartien schon das\n3. Neunkirchener Online-Schach-Open (NOSO3): \n\nLange Bedenkzeiten\nFaire Spieler aus dem deutschsprachigen Vereins- und Schulschach\, die namentlich bekannt sind.\nZeitliche Flexibilität\, da die Spieler den Spieltermin innerhalb eines vorgegebenen Zeitintervalls selbst festlegen.\nDie Spieler können innerhalb eines Rahmens selbst bestimmen\, wie oft sie spielen.\nDie Wertung erfolgt nach der prozentualen Punktausbeute.\nNachmeldungen sind möglich wegen der Prozentwertung.\nEin menschlicher Turnierleiter hilft bei der Lösung von Problemen.\nAusschreibung NOSO3\nAnmeldung zum 27.5.2020 hier\n(Nachmeldungen bis zum 2.6. sind aufgrund der Prozentwertung möglich.)\nTurnierseite
URL:https://www.hsjb.de/termin/3-neunkirchener-online-schach-open/
LOCATION:Deutschland\, Deutschland
CATEGORIES:Turniere
ORGANIZER;CN="TSV%20Neunkirchen%20a.Br.%20e.V.":MAILTO:schach91077@online.de
END:VEVENT
END:VCALENDAR