BEGIN:VCALENDAR
VERSION:2.0
PRODID:-//HSJB - ECPv5.13.0//NONSGML v1.0//EN
CALSCALE:GREGORIAN
METHOD:PUBLISH
X-WR-CALNAME:HSJB
X-ORIGINAL-URL:https://www.hsjb.de
X-WR-CALDESC:Veranstaltungen für HSJB
BEGIN:VTIMEZONE
TZID:Europe/Berlin
BEGIN:DAYLIGHT
TZOFFSETFROM:+0100
TZOFFSETTO:+0200
TZNAME:CEST
DTSTART:20190331T010000
END:DAYLIGHT
BEGIN:STANDARD
TZOFFSETFROM:+0200
TZOFFSETTO:+0100
TZNAME:CET
DTSTART:20191027T010000
END:STANDARD
END:VTIMEZONE
BEGIN:VEVENT
DTSTART;VALUE=DATE:20190630
DTEND;VALUE=DATE:20190701
DTSTAMP:20260424T103249
CREATED:20190414T123956Z
LAST-MODIFIED:20190414T123956Z
UID:4806-1561852800-1561939199@www.hsjb.de
SUMMARY:41. Offene Elmshorner Jugendstadtmeisterschaft
DESCRIPTION:Der Elmshorner Schachclub von 1896 e.V. lädt alle Jugendlichen zur 41. Offenen Elmshorner Jugendstadtmeisterschaft am Sonntag\, 30. Juni 2019 ein. \nEs wird in sieben Altersklassen gespielt. \n\nAusschreibung\nAnmeldung bis zum 27. Juni 2019 bei Heiko Spaan\, E-Mail: heiko [dot] spaan [at] web [dot] de
URL:https://www.hsjb.de/termin/41-offene-elmshorner-jugendstadtmeisterschaft/
LOCATION:Bismarckschule Elmshorn\, Bismarckstraße 2\, Elmshorn\, Schleswig-Holstein\, 25335\, Deutschland
CATEGORIES:Turniere
END:VEVENT
END:VCALENDAR