BEGIN:VCALENDAR
VERSION:2.0
PRODID:-//HSJB - ECPv5.13.0//NONSGML v1.0//EN
CALSCALE:GREGORIAN
METHOD:PUBLISH
X-WR-CALNAME:HSJB
X-ORIGINAL-URL:https://www.hsjb.de
X-WR-CALDESC:Veranstaltungen für HSJB
BEGIN:VTIMEZONE
TZID:Europe/Berlin
BEGIN:DAYLIGHT
TZOFFSETFROM:+0100
TZOFFSETTO:+0200
TZNAME:CEST
DTSTART:20220327T010000
END:DAYLIGHT
BEGIN:STANDARD
TZOFFSETFROM:+0200
TZOFFSETTO:+0100
TZNAME:CET
DTSTART:20221030T010000
END:STANDARD
END:VTIMEZONE
BEGIN:VEVENT
DTSTART;VALUE=DATE:20220607
DTEND;VALUE=DATE:20220612
DTSTAMP:20260423T064303
CREATED:20220420T211517Z
LAST-MODIFIED:20220420T212138Z
UID:8753-1654560000-1654991999@www.hsjb.de
SUMMARY:Deutsche Jugendeinzelmeisterschaft U8
DESCRIPTION:Einzelmeisterschaft für Spielerinnen und Spieler der Altersklasse U8\n2022 eingeführt. \nTurnierinfos:\n7 Runden Schweizer System\nBedenkzeit pro Spieler und Partie: 55 Minuten (5 Sekunden Zeitbonus pro Zug)\nAltersklasse: Jahrgänge 2014 und jünger\nNotationspflicht: Die Züge müssen mitgeschrieben werden.
URL:https://www.hsjb.de/termin/deutsche-jugendeinzelmeisterschaft-u8/
LOCATION:Sauerland Stern Hotel\, Kneippweg 1\, Willingen\, Hessen\, 34508\, Deutschland
CATEGORIES:Meisterschaften
ORGANIZER;CN="Deutsche%20Schachjugend%20%28DSJ%29":MAILTO:geschaeftsstelle@deutsche-schachjugend.de
END:VEVENT
END:VCALENDAR