BEGIN:VCALENDAR
VERSION:2.0
PRODID:-//HSJB - ECPv5.13.0//NONSGML v1.0//EN
CALSCALE:GREGORIAN
METHOD:PUBLISH
X-WR-CALNAME:HSJB
X-ORIGINAL-URL:https://www.hsjb.de
X-WR-CALDESC:Veranstaltungen für HSJB
BEGIN:VTIMEZONE
TZID:Europe/Berlin
BEGIN:DAYLIGHT
TZOFFSETFROM:+0100
TZOFFSETTO:+0200
TZNAME:CEST
DTSTART:20240331T010000
END:DAYLIGHT
BEGIN:STANDARD
TZOFFSETFROM:+0200
TZOFFSETTO:+0100
TZNAME:CET
DTSTART:20241027T010000
END:STANDARD
END:VTIMEZONE
BEGIN:VEVENT
DTSTART;VALUE=DATE:20240521
DTEND;VALUE=DATE:20240526
DTSTAMP:20260422T122545
CREATED:20240421T121330Z
LAST-MODIFIED:20240421T121759Z
UID:11935-1716249600-1716681599@www.hsjb.de
SUMMARY:Deutsche Jugendeinzelmeisterschaften 2024 - U8 und U8w
DESCRIPTION:Einzelmeisterschaften für Spieler und Spielerinnen der Altersklassen U8 und U8w\n(für alle\, die am 31.12. des Vorjahres noch nicht 8 waren) \nTurnierinfos:\n7 Runden Schweizer System\nBedenkzeit pro Spieler und Partie: 60 Minuten (15 Sekunden Zeitbonus pro Zug)\nNotationspflicht: Die Züge müssen mitgeschrieben werden.\nAltersklasse: Jahrgänge 2016 und jünger
URL:https://www.hsjb.de/termin/deutsche-jugendeinzelmeisterschaften-2024-u8-und-u8w-2/
LOCATION:Sauerland Stern Hotel\, Kneippweg 1\, Willingen\, Hessen\, 34508\, Deutschland
CATEGORIES:Meisterschaften
ORGANIZER;CN="Deutsche%20Schachjugend%20%28DSJ%29":MAILTO:geschaeftsstelle@deutsche-schachjugend.de
END:VEVENT
END:VCALENDAR