BEGIN:VCALENDAR
VERSION:2.0
PRODID:-//HSJB - ECPv5.13.0//NONSGML v1.0//EN
CALSCALE:GREGORIAN
METHOD:PUBLISH
X-WR-CALNAME:HSJB
X-ORIGINAL-URL:https://www.hsjb.de
X-WR-CALDESC:Veranstaltungen für HSJB
BEGIN:VTIMEZONE
TZID:Europe/Berlin
BEGIN:DAYLIGHT
TZOFFSETFROM:+0100
TZOFFSETTO:+0200
TZNAME:CEST
DTSTART:20240331T010000
END:DAYLIGHT
BEGIN:STANDARD
TZOFFSETFROM:+0200
TZOFFSETTO:+0100
TZNAME:CET
DTSTART:20241027T010000
END:STANDARD
END:VTIMEZONE
BEGIN:VEVENT
DTSTART;VALUE=DATE:20240518
DTEND;VALUE=DATE:20240527
DTSTAMP:20260420T123650
CREATED:20230812T123500Z
LAST-MODIFIED:20240421T121551Z
UID:10958-1715990400-1716767999@www.hsjb.de
SUMMARY:Deutsche Jugendeinzelmeisterschaften 2024
DESCRIPTION:Deutsche Jugendeinzelmeisterschaften\nEinzelturnier in Willingen \nU10(w) – U18(w) \nDies ist die älteste Form der Deutschen Meisterschaften. Zuerst nur in der höchsten Altersgruppe ausgerichtet\, hat sich dieser Wettbewerb in den 80er und 90er Jahren zunehmend verjüngt. Heute richten wir nach Möglichkeit alle Turniere gleichzeitig an einem Ort aus. Dadurch entsteht mit etwa 700 Teilnehmer:innen und mehreren hundert Begleitpersonen ein besonderes Erlebnis\, das für die Jugendlichen und die Deutsche Schachjugend (DSJ) schachlicher Höhepunkt des Jahres ist. \nDie Teilnehmer qualifizieren sich zum großen Teil aus den Landesverbänden. Hinzu kommen einige Freiplätze. \nDie Offene Deutschen Juniorenmeisterschaft (ODJM) ist für alle Spielerinnen und Spieler unter 25 Jahren offen.
URL:https://www.hsjb.de/termin/deutsche-jugendeinzelmeisterschaften-2024/
LOCATION:Sauerland Stern Hotel\, Kneippweg 1\, Willingen\, Hessen\, 34508\, Deutschland
CATEGORIES:Meisterschaften
ORGANIZER;CN="Deutsche%20Schachjugend%20%28DSJ%29":MAILTO:geschaeftsstelle@deutsche-schachjugend.de
END:VEVENT
END:VCALENDAR