BEGIN:VCALENDAR
VERSION:2.0
PRODID:-//HSJB - ECPv5.13.0//NONSGML v1.0//EN
CALSCALE:GREGORIAN
METHOD:PUBLISH
X-WR-CALNAME:HSJB
X-ORIGINAL-URL:https://www.hsjb.de
X-WR-CALDESC:Veranstaltungen für HSJB
BEGIN:VTIMEZONE
TZID:Europe/Berlin
BEGIN:DAYLIGHT
TZOFFSETFROM:+0100
TZOFFSETTO:+0200
TZNAME:CEST
DTSTART:20230326T010000
END:DAYLIGHT
BEGIN:STANDARD
TZOFFSETFROM:+0200
TZOFFSETTO:+0100
TZNAME:CET
DTSTART:20231029T010000
END:STANDARD
END:VTIMEZONE
BEGIN:VEVENT
DTSTART;VALUE=DATE:20230530
DTEND;VALUE=DATE:20230604
DTSTAMP:20260424T103113
CREATED:20230412T173610Z
LAST-MODIFIED:20230413T230545Z
UID:10554-1685404800-1685836799@www.hsjb.de
SUMMARY:Deutsche Jugendeinzelmeisterschaften U8 und U8w
DESCRIPTION:Einzelmeisterschaften für Spieler und Spielerinnen der Altersklassen U8 und U8w\n(für alle\, die am 31.12. des Vorjahres noch nicht 8 waren)\, 2022 eingeführt. \nTurnierinfos:\n7 Runden Schweizer System\nBedenkzeit pro Spieler und Partie: 60 Minuten (15 Sekunden Zeitbonus pro Zug)\nNotationspflicht: Die Züge müssen mitgeschrieben werden.\nAltersklasse: Jahrgänge 2015 und jünger \n  \nFür dieses Turnier gibt es Freiplätze. Jetzt bewerben! [Link] bis zum 28. April
URL:https://www.hsjb.de/termin/deutsche-jugendeinzelmeisterschaften-u8-und-u8w/
LOCATION:Sauerland Stern Hotel\, Kneippweg 1\, Willingen\, Hessen\, 34508\, Deutschland
CATEGORIES:Meisterschaften
ORGANIZER;CN="Deutsche%20Schachjugend%20%28DSJ%29":MAILTO:geschaeftsstelle@deutsche-schachjugend.de
END:VEVENT
END:VCALENDAR