BEGIN:VCALENDAR
VERSION:2.0
PRODID:-//HSJB - ECPv5.13.0//NONSGML v1.0//EN
CALSCALE:GREGORIAN
METHOD:PUBLISH
X-WR-CALNAME:HSJB
X-ORIGINAL-URL:https://www.hsjb.de
X-WR-CALDESC:Veranstaltungen für HSJB
BEGIN:VTIMEZONE
TZID:Europe/Berlin
BEGIN:DAYLIGHT
TZOFFSETFROM:+0100
TZOFFSETTO:+0200
TZNAME:CEST
DTSTART:20200329T010000
END:DAYLIGHT
BEGIN:STANDARD
TZOFFSETFROM:+0200
TZOFFSETTO:+0100
TZNAME:CET
DTSTART:20201025T010000
END:STANDARD
END:VTIMEZONE
BEGIN:VEVENT
DTSTART;TZID=Europe/Berlin:20200822T103000
DTEND;TZID=Europe/Berlin:20200823T160000
DTSTAMP:20260422T122109
CREATED:20200816T093640Z
LAST-MODIFIED:20200816T093640Z
UID:6759-1598092200-1598198400@www.hsjb.de
SUMMARY:DJEM-Stichkämpfe
DESCRIPTION:Stichkämpfe für die Hamburger Teilnehmer bei den Deutschen Jugendeinzelmeisterschaften 2020.
URL:https://www.hsjb.de/termin/djem-stichkaempfe/
LOCATION:HSK-Schachzentrum\, Schellingstraße 41\, Hamburg\, 22089\, Deutschland
END:VEVENT
END:VCALENDAR