BEGIN:VCALENDAR
VERSION:2.0
PRODID:-//HSJB - ECPv5.13.0//NONSGML v1.0//EN
CALSCALE:GREGORIAN
METHOD:PUBLISH
X-WR-CALNAME:HSJB
X-ORIGINAL-URL:https://www.hsjb.de
X-WR-CALDESC:Veranstaltungen für HSJB
BEGIN:VTIMEZONE
TZID:Europe/Berlin
BEGIN:DAYLIGHT
TZOFFSETFROM:+0100
TZOFFSETTO:+0200
TZNAME:CEST
DTSTART:20200329T010000
END:DAYLIGHT
BEGIN:STANDARD
TZOFFSETFROM:+0200
TZOFFSETTO:+0100
TZNAME:CET
DTSTART:20201025T010000
END:STANDARD
END:VTIMEZONE
BEGIN:VEVENT
DTSTART;TZID=Europe/Berlin:20201002T180000
DTEND;TZID=Europe/Berlin:20201004T120000
DTSTAMP:20260423T002021
CREATED:20200203T223630Z
LAST-MODIFIED:20200827T184550Z
UID:5856-1601661600-1601812800@www.hsjb.de
SUMMARY:DSJ-Akademie 2020
DESCRIPTION:Workshop in Berlin \nDie Akademie ist das zentrale Ausbildungsangebot der Deutschen Schachjugend\, das nicht mehr ein einziges Thema an einem Wochenende behandelt\, sondern eine bunte Palette von Themenbausteinen bereithält\, aus der die Teilnehmer nach ihren Wünschen auswählen können. \nThemen und Anmeldung
URL:https://www.hsjb.de/termin/dsj-akademie-2020/
LOCATION:Jugendherberge Berlin Ostkreuz\, Marktstraße 9-12\, Berlin\, 10317\, Deutschland
CATEGORIES:Fortbildung
ORGANIZER;CN="Deutsche%20Schachjugend%20%28DSJ%29":MAILTO:geschaeftsstelle@deutsche-schachjugend.de
END:VEVENT
END:VCALENDAR