BEGIN:VCALENDAR
VERSION:2.0
PRODID:-//HSJB - ECPv5.13.0//NONSGML v1.0//EN
CALSCALE:GREGORIAN
METHOD:PUBLISH
X-WR-CALNAME:HSJB
X-ORIGINAL-URL:https://www.hsjb.de
X-WR-CALDESC:Veranstaltungen für HSJB
BEGIN:VTIMEZONE
TZID:Europe/Berlin
BEGIN:DAYLIGHT
TZOFFSETFROM:+0100
TZOFFSETTO:+0200
TZNAME:CEST
DTSTART:20210328T010000
END:DAYLIGHT
BEGIN:STANDARD
TZOFFSETFROM:+0200
TZOFFSETTO:+0100
TZNAME:CET
DTSTART:20211031T010000
END:STANDARD
END:VTIMEZONE
BEGIN:VEVENT
DTSTART;VALUE=DATE:20210910
DTEND;VALUE=DATE:20210913
DTSTAMP:20260422T213411
CREATED:20210704T111648Z
LAST-MODIFIED:20210810T211546Z
UID:7713-1631232000-1631491199@www.hsjb.de
SUMMARY:DSJ-Akademie 2021
DESCRIPTION:Workshop in Stuttgart \nDie Akademie ist das zentrale Ausbildungsangebot der Deutschen Schachjugend\, das nicht mehr ein einziges Thema an einem Wochenende behandelt\, sondern eine bunte Palette von Themenbausteinen bereithält\, aus der die Teilnehmer nach ihren Wünschen auswählen können. \nWeitere Infos bei der DSJ hier
URL:https://www.hsjb.de/termin/dsj-akademie-2021/
LOCATION:Jugendherberge Stuttgart Neckarpark\, Elwertstr. 2\, Stuttgart\, Baden-Württemberg\, 70372\, Deutschland
CATEGORIES:Fortbildung
ORGANIZER;CN="Deutsche%20Schachjugend%20%28DSJ%29":MAILTO:geschaeftsstelle@deutsche-schachjugend.de
END:VEVENT
END:VCALENDAR