BEGIN:VCALENDAR
VERSION:2.0
PRODID:-//HSJB - ECPv5.13.0//NONSGML v1.0//EN
CALSCALE:GREGORIAN
METHOD:PUBLISH
X-WR-CALNAME:HSJB
X-ORIGINAL-URL:https://www.hsjb.de
X-WR-CALDESC:Veranstaltungen für HSJB
BEGIN:VTIMEZONE
TZID:Europe/Berlin
BEGIN:DAYLIGHT
TZOFFSETFROM:+0100
TZOFFSETTO:+0200
TZNAME:CEST
DTSTART:20190331T010000
END:DAYLIGHT
BEGIN:STANDARD
TZOFFSETFROM:+0200
TZOFFSETTO:+0100
TZNAME:CET
DTSTART:20191027T010000
END:STANDARD
END:VTIMEZONE
BEGIN:VEVENT
DTSTART;VALUE=DATE:20190628
DTEND;VALUE=DATE:20190701
DTSTAMP:20260422T140354
CREATED:20190119T223318Z
LAST-MODIFIED:20190612T233034Z
UID:4271-1561680000-1561939199@www.hsjb.de
SUMMARY:DSJ-Akademie
DESCRIPTION:  \nWorkshop in Duisburg \nDie Akademie ist das zentrale Ausbildungsangebot der Deutschen Schachjugend\, das nicht mehr ein einziges Thema an einem Wochenende behandelt\, sondern eine bunte Palette von Themenbausteinen bereithält\, aus der die Teilnehmer nach ihren Wünschen auswählen können. \nAnmeldung ab sofort möglich! ausgebucht \nAusführliche Infos und Anmeldung auf der Seite der DSJ\, Link. \nProgramm der DSJ-Akademie 2019. \n 
URL:https://www.hsjb.de/termin/dsj-akademie/
LOCATION:Sportschule Wedau\, Friedrich-Alfred-Str. 15\, Duisburg\, NRW\, 47055\, Deutschland
CATEGORIES:Fortbildung
ORGANIZER;CN="Deutsche%20Schachjugend%20%28DSJ%29":MAILTO:geschaeftsstelle@deutsche-schachjugend.de
END:VEVENT
END:VCALENDAR