BEGIN:VCALENDAR
VERSION:2.0
PRODID:-//HSJB - ECPv5.13.0//NONSGML v1.0//EN
CALSCALE:GREGORIAN
METHOD:PUBLISH
X-WR-CALNAME:HSJB
X-ORIGINAL-URL:https://www.hsjb.de
X-WR-CALDESC:Veranstaltungen für HSJB
BEGIN:VTIMEZONE
TZID:Europe/Berlin
BEGIN:DAYLIGHT
TZOFFSETFROM:+0100
TZOFFSETTO:+0200
TZNAME:CEST
DTSTART:20200329T010000
END:DAYLIGHT
BEGIN:STANDARD
TZOFFSETFROM:+0200
TZOFFSETTO:+0100
TZNAME:CET
DTSTART:20201025T010000
END:STANDARD
BEGIN:DAYLIGHT
TZOFFSETFROM:+0100
TZOFFSETTO:+0200
TZNAME:CEST
DTSTART:20210328T010000
END:DAYLIGHT
BEGIN:STANDARD
TZOFFSETFROM:+0200
TZOFFSETTO:+0100
TZNAME:CET
DTSTART:20211031T010000
END:STANDARD
END:VTIMEZONE
BEGIN:VEVENT
DTSTART;VALUE=DATE:20201014
DTEND;VALUE=DATE:20210801
DTSTAMP:20260423T034546
CREATED:20201009T131214Z
LAST-MODIFIED:20210709T182414Z
UID:6967-1602633600-1627775999@www.hsjb.de
SUMMARY:DSJ-Grundschulturniere
DESCRIPTION:  \nGrundschulkinder aller vier Klassenstufen spielen online Turniere\, um gemeinsam Spielpraxis sammeln zu können. \nSchachkinder aus ganz Deutschland sind willkommen\, aus Schach-AGs\, aus dem Schachunterricht oder auch ganz ohne Schulschach – du musst nur auf eine Grundschule in Deutschland gehen\, um mitspielen zu dürfen. \n\n\n\nModus\nGespielt wird zweimal die Woche auf lichess.org\, mit vorerst leicht unterschiedlichen Turnierbedingungen. \nDienstags von 16:30 bis 17:30 Uhr\, Arena ohne Berserk oder Streaks\, Bedenkzeit 6+3 \nSamstags von 16:30 bis 18:00 Uhr\, Arena ohne Berserk oder Streaks\, Bedenkzeit 7+5 \n\nTeilnahme\nEingeladen sind alle Kinder\, die auf eine Grundschule gehen und dort die Klassen 1 bis 4 besuchen. \nFülle bitte das Anmeldeformular weiter unten (Link „Anmeldung“) aus. Danach schickst du uns eine Beitrittsanfrage für unser Grundschul-Lichessteam und wir werden dich dort aufnehmen. Eine einmalige Anmeldung reicht aus\, damit du an allen zukünftigen Turnieren teilnehmen kannst. \nDie einzelnen Turniere werden dann im Lichess-Team aufgelistet und du kannst direkt über Lichess den Turnieren beitreten. \n\nPreise\nWir losen Ende jeden Monats drei Gewinner von kleinen Sachpreisen unter all denen aus\, die mindestens dreimal an einem der Turniere in diesem Monat teilgenommen haben. Die Turnierergebnisse sind dabei völlig nebensächlich. \nViel Spaß und viel Erfolg! \n\n\n⇒⇒⇒ Anmeldung ⇐⇐⇐\n 
URL:https://www.hsjb.de/termin/dsj-grundschulturniere/
LOCATION:Deutschland\, Deutschland
CATEGORIES:Turniere
ORGANIZER;CN="Deutsche%20Schachjugend%20%28DSJ%29":MAILTO:geschaeftsstelle@deutsche-schachjugend.de
END:VEVENT
END:VCALENDAR