BEGIN:VCALENDAR
VERSION:2.0
PRODID:-//HSJB - ECPv5.13.0//NONSGML v1.0//EN
CALSCALE:GREGORIAN
METHOD:PUBLISH
X-WR-CALNAME:HSJB
X-ORIGINAL-URL:https://www.hsjb.de
X-WR-CALDESC:Veranstaltungen für HSJB
BEGIN:VTIMEZONE
TZID:Europe/Berlin
BEGIN:DAYLIGHT
TZOFFSETFROM:+0100
TZOFFSETTO:+0200
TZNAME:CEST
DTSTART:20210328T010000
END:DAYLIGHT
BEGIN:STANDARD
TZOFFSETFROM:+0200
TZOFFSETTO:+0100
TZNAME:CET
DTSTART:20211031T010000
END:STANDARD
END:VTIMEZONE
BEGIN:VEVENT
DTSTART;TZID=Europe/Berlin:20210710T150000
DTEND;TZID=Europe/Berlin:20210713T130000
DTSTAMP:20260423T124719
CREATED:20210406T204958Z
LAST-MODIFIED:20210406T204958Z
UID:7596-1625929200-1626181200@www.hsjb.de
SUMMARY:DSJ: Kinderschachcamp U9
DESCRIPTION:Kinderschachcamp der Deutschen Schachjugend \nInfos\, Zeitplan und Anmeldung (bis zum 01.06.2021) auf der Seite der DSJ
URL:https://www.hsjb.de/termin/dsj-kinderschachcamp-u9-2/
LOCATION:Schullandheim Haus Lankau\, Voßbergweg 38\, Neu-Lankau\, Schleswig-Holstein\, 23881\, Deutschland
CATEGORIES:Freizeitangebote,Turniere
ORGANIZER;CN="Deutsche%20Schachjugend%20%28DSJ%29":MAILTO:geschaeftsstelle@deutsche-schachjugend.de
END:VEVENT
END:VCALENDAR