BEGIN:VCALENDAR
VERSION:2.0
PRODID:-//HSJB - ECPv5.13.0//NONSGML v1.0//EN
CALSCALE:GREGORIAN
METHOD:PUBLISH
X-WR-CALNAME:HSJB
X-ORIGINAL-URL:https://www.hsjb.de
X-WR-CALDESC:Veranstaltungen für HSJB
BEGIN:VTIMEZONE
TZID:Europe/Berlin
BEGIN:DAYLIGHT
TZOFFSETFROM:+0100
TZOFFSETTO:+0200
TZNAME:CEST
DTSTART:20210328T010000
END:DAYLIGHT
BEGIN:STANDARD
TZOFFSETFROM:+0200
TZOFFSETTO:+0100
TZNAME:CET
DTSTART:20211031T010000
END:STANDARD
END:VTIMEZONE
BEGIN:VEVENT
DTSTART;VALUE=DATE:20211022
DTEND;VALUE=DATE:20211025
DTSTAMP:20260422T105033
CREATED:20210810T212308Z
LAST-MODIFIED:20210927T204107Z
UID:7800-1634860800-1635119999@www.hsjb.de
SUMMARY:DSJ-Mädchencamp
DESCRIPTION:Freizeit \nDu spielst gerne Schach und möchtest mit anderen Schachspielerinnen in Kontakt kommen oder bleiben? Du möchtest gerne eine Freundin für dein Hobby begeistern? – Dann bist du beim Mädchencamp genau richtig! \nWas ist das Mädchencamp? Ein Schach-Spaß-Wochenende für Mädchen\, mit viel Freizeitangebot und einem kleinen Turnier. Im Vordergrund steht jedoch das Rahmenprogramm z.B. Gruppenspiele und Basteln. \nAusschreibung (PDF) \nAnmeldung auf der Seite der DSJ hier (Link)
URL:https://www.hsjb.de/termin/dsj-maedchencamp/
LOCATION:Jugendherberge Essen\, Pastoratsberg 2\, Essen\, NRW\, 45239\, Deutschland
CATEGORIES:Freizeitangebote
ORGANIZER;CN="Deutsche%20Schachjugend%20%28DSJ%29":MAILTO:geschaeftsstelle@deutsche-schachjugend.de
END:VEVENT
END:VCALENDAR