BEGIN:VCALENDAR
VERSION:2.0
PRODID:-//HSJB - ECPv5.13.0//NONSGML v1.0//EN
CALSCALE:GREGORIAN
METHOD:PUBLISH
X-WR-CALNAME:HSJB
X-ORIGINAL-URL:https://www.hsjb.de
X-WR-CALDESC:Veranstaltungen für HSJB
BEGIN:VTIMEZONE
TZID:Europe/Berlin
BEGIN:DAYLIGHT
TZOFFSETFROM:+0100
TZOFFSETTO:+0200
TZNAME:CEST
DTSTART:20230326T010000
END:DAYLIGHT
BEGIN:STANDARD
TZOFFSETFROM:+0200
TZOFFSETTO:+0100
TZNAME:CET
DTSTART:20231029T010000
END:STANDARD
END:VTIMEZONE
BEGIN:VEVENT
DTSTART;VALUE=DATE:20230730
DTEND;VALUE=DATE:20230805
DTSTAMP:20260421T133345
CREATED:20230103T195912Z
LAST-MODIFIED:20230103T195912Z
UID:9899-1690675200-1691193599@www.hsjb.de
SUMMARY:DSJ-Sommercamp 2023
DESCRIPTION:Freizeit in Rosdorf-Dahlenrode \nDie Deutsche Schachjugend e.V. (DSJ) schreibt eine Ferienmaßnahme für Kinder und Jugendliche als Sommercamp im Zeltplatz Stolle bei Göttingen aus. Das Angebot richtet sich vor allem an Vereine\, die mit ihrer Jugendgruppe am Camp teilnehmen wollen. Das Angebot kann aber auch einzeln\, zu zweit\, zu dritt gebucht werden. \nWeitere Infos + Anmeldung auf der Seite der DSJ [Link] \n\n31.03.2023 : Meldefrist für vergünstigte Teilnahmebeiträge\n30.06.2023 : Meldefrist
URL:https://www.hsjb.de/termin/dsj-sommercamp-2023/
LOCATION:Zeltlagerplatz Stolle\, Auf der Stolle 1\, Rosdorf-Dahlenrode\, Niedersachsen\, 37124\, Deutschland
CATEGORIES:Freizeitangebote
ORGANIZER;CN="Deutsche%20Schachjugend%20%28DSJ%29":MAILTO:geschaeftsstelle@deutsche-schachjugend.de
END:VEVENT
END:VCALENDAR