BEGIN:VCALENDAR
VERSION:2.0
PRODID:-//HSJB - ECPv5.13.0//NONSGML v1.0//EN
CALSCALE:GREGORIAN
METHOD:PUBLISH
X-WR-CALNAME:HSJB
X-ORIGINAL-URL:https://www.hsjb.de
X-WR-CALDESC:Veranstaltungen für HSJB
BEGIN:VTIMEZONE
TZID:Europe/Berlin
BEGIN:DAYLIGHT
TZOFFSETFROM:+0100
TZOFFSETTO:+0200
TZNAME:CEST
DTSTART:20240331T010000
END:DAYLIGHT
BEGIN:STANDARD
TZOFFSETFROM:+0200
TZOFFSETTO:+0100
TZNAME:CET
DTSTART:20241027T010000
END:STANDARD
END:VTIMEZONE
BEGIN:VEVENT
DTSTART;VALUE=DATE:20240728
DTEND;VALUE=DATE:20240804
DTSTAMP:20260423T105419
CREATED:20230812T124236Z
LAST-MODIFIED:20230812T124236Z
UID:10961-1722124800-1722729599@www.hsjb.de
SUMMARY:DSJ-Sommercamp 2024
DESCRIPTION:Freizeit in Rosdorf-Dahlenrode \nZeltlager für 80 Kinder und Jugendliche im Alter von 10 – 15 Jahren einzeln und für Vereinsgruppen \nDas Angebot richtet sich vor allem an Vereine\, die mit ihrer Jugendgruppe am Camp teilnehmen wollen. Das Angebot kann aber auch einzeln\, zu zweit\, zu dritt gebucht werden. Die Vereinsgruppen bringen ihre Betreuer:innen mit. Falls es dabei Probleme gibt\, dann sprecht uns einfach an. Für die einzeln Anreisenden stehen DSJ-Betreuer:innen zur Verfügung. \nWeitere Infos + Anmeldung auf der Seite der DSJ [Link] \n 
URL:https://www.hsjb.de/termin/dsj-sommercamp-2024/
LOCATION:Zeltlagerplatz Stolle\, Auf der Stolle 1\, Rosdorf-Dahlenrode\, Niedersachsen\, 37124\, Deutschland
CATEGORIES:Freizeitangebote
ORGANIZER;CN="Deutsche%20Schachjugend%20%28DSJ%29":MAILTO:geschaeftsstelle@deutsche-schachjugend.de
END:VEVENT
END:VCALENDAR