BEGIN:VCALENDAR
VERSION:2.0
PRODID:-//HSJB - ECPv5.13.0//NONSGML v1.0//EN
CALSCALE:GREGORIAN
METHOD:PUBLISH
X-WR-CALNAME:HSJB
X-ORIGINAL-URL:https://www.hsjb.de
X-WR-CALDESC:Veranstaltungen für HSJB
BEGIN:VTIMEZONE
TZID:Europe/Berlin
BEGIN:DAYLIGHT
TZOFFSETFROM:+0100
TZOFFSETTO:+0200
TZNAME:CEST
DTSTART:20200329T010000
END:DAYLIGHT
BEGIN:STANDARD
TZOFFSETFROM:+0200
TZOFFSETTO:+0100
TZNAME:CET
DTSTART:20201025T010000
END:STANDARD
END:VTIMEZONE
BEGIN:VEVENT
DTSTART;TZID=Europe/Berlin:20200613T103000
DTEND;TZID=Europe/Berlin:20200613T170000
DTSTAMP:20260420T105211
CREATED:20200116T174000Z
LAST-MODIFIED:20210104T145059Z
UID:5714-1592044200-1592067600@www.hsjb.de
SUMMARY:Elbinsel-Pokal 2020 - abgesagt -
DESCRIPTION:Erstmals veranstaltet der SK Wilhelmsburg gemeinsam mit dem Helmut-Schmidt-Gymnasium ein Turnier für Schulschach-Mannschaften. Gespielt wird im Juni\, aber die Anmeldung ist bereits möglich. \n\nAusschreibung Elbinsel-Pokal 2020\n\n\n– abgesagt – \n 
URL:https://www.hsjb.de/termin/elbinsel-pokal-2020/
LOCATION:Bildungszentrum Tor zur Welt\, Krieterstraße 2d\, Hamburg\, 21109\, Deutschland
CATEGORIES:Turniere
END:VEVENT
END:VCALENDAR