BEGIN:VCALENDAR
VERSION:2.0
PRODID:-//HSJB - ECPv5.13.0//NONSGML v1.0//EN
CALSCALE:GREGORIAN
METHOD:PUBLISH
X-WR-CALNAME:HSJB
X-ORIGINAL-URL:https://www.hsjb.de
X-WR-CALDESC:Veranstaltungen für HSJB
BEGIN:VTIMEZONE
TZID:Europe/Berlin
BEGIN:DAYLIGHT
TZOFFSETFROM:+0100
TZOFFSETTO:+0200
TZNAME:CEST
DTSTART:20210328T010000
END:DAYLIGHT
BEGIN:STANDARD
TZOFFSETFROM:+0200
TZOFFSETTO:+0100
TZNAME:CET
DTSTART:20211031T010000
END:STANDARD
END:VTIMEZONE
BEGIN:VEVENT
DTSTART;TZID=Europe/Berlin:20210622T093000
DTEND;TZID=Europe/Berlin:20210622T130000
DTSTAMP:20260421T183201
CREATED:20210502T210257Z
LAST-MODIFIED:20210502T210502Z
UID:7621-1624354200-1624366800@www.hsjb.de
SUMMARY:Elbinsel-Pokal 2021 - online -
DESCRIPTION:Der SK Wilhelmsburg veranstaltet gemeinsam mit dem Helmut-Schmidt-Gymnasium ein Schnellturnier für Schulmannschaften. \nAnmeldung: bis 20. Juni per E-Mail an Thorsten Fellberg\, E-Mail: skw [dot] fellberg [at] gmx [dot] de unter Angabe folgender Daten:\n– Name der Schule\n– Name\, Lichess-Name und E-Mail-Adresse der Mannschaftsführer*in\n– Name\, Lichess-Name und Jahrgangsstufe der Mannschaftsmitglieder in Brettreihenfolge \n\nAusschreibung Elbinsel-Pokal 2021
URL:https://www.hsjb.de/termin/elbinsel-pokal-2021-online/
LOCATION:Hamburg\, Hamburg\, Deutschland
CATEGORIES:Turniere
END:VEVENT
END:VCALENDAR