BEGIN:VCALENDAR
VERSION:2.0
PRODID:-//HSJB - ECPv5.13.0//NONSGML v1.0//EN
CALSCALE:GREGORIAN
METHOD:PUBLISH
X-WR-CALNAME:HSJB
X-ORIGINAL-URL:https://www.hsjb.de
X-WR-CALDESC:Veranstaltungen für HSJB
BEGIN:VTIMEZONE
TZID:Europe/Berlin
BEGIN:DAYLIGHT
TZOFFSETFROM:+0100
TZOFFSETTO:+0200
TZNAME:CEST
DTSTART:20240331T010000
END:DAYLIGHT
BEGIN:STANDARD
TZOFFSETFROM:+0200
TZOFFSETTO:+0100
TZNAME:CET
DTSTART:20241027T010000
END:STANDARD
END:VTIMEZONE
BEGIN:VEVENT
DTSTART;TZID=Europe/Berlin:20240622T110000
DTEND;TZID=Europe/Berlin:20240622T153000
DTSTAMP:20260421T151103
CREATED:20240313T220751Z
LAST-MODIFIED:20240425T200450Z
UID:11859-1719054000-1719070200@www.hsjb.de
SUMMARY:Elbinsel-Pokal 2024
DESCRIPTION:Am Samstag\, 22. Juni findet der Elbinsel-Pokal 2024 statt\, dieses Jahr erstmals als Einzelturnier für Schüler:innen mit Schulwertung. Hier [PDF] die Ausschreibung.
URL:https://www.hsjb.de/termin/elbinsel-pokal-2024/
LOCATION:Bildungszentrum Tor zur Welt\, Krieterstraße 2d\, Hamburg\, 21109\, Deutschland
CATEGORIES:Turniere
END:VEVENT
END:VCALENDAR