BEGIN:VCALENDAR
VERSION:2.0
PRODID:-//HSJB - ECPv5.13.0//NONSGML v1.0//EN
CALSCALE:GREGORIAN
METHOD:PUBLISH
X-WR-CALNAME:HSJB
X-ORIGINAL-URL:https://www.hsjb.de
X-WR-CALDESC:Veranstaltungen für HSJB
BEGIN:VTIMEZONE
TZID:Europe/Berlin
BEGIN:DAYLIGHT
TZOFFSETFROM:+0100
TZOFFSETTO:+0200
TZNAME:CEST
DTSTART:20190331T010000
END:DAYLIGHT
BEGIN:STANDARD
TZOFFSETFROM:+0200
TZOFFSETTO:+0100
TZNAME:CET
DTSTART:20191027T010000
END:STANDARD
END:VTIMEZONE
BEGIN:VEVENT
DTSTART;TZID=Europe/Berlin:20191123T100000
DTEND;TZID=Europe/Berlin:20191123T180000
DTSTAMP:20260422T154117
CREATED:20190807T203545Z
LAST-MODIFIED:20190929T100424Z
UID:5103-1574503200-1574532000@www.hsjb.de
SUMMARY:Hamburger Grundschulschachtag
DESCRIPTION:Der Grundschultag ist für alle schachbegeisterten Grundschüler Hamburgs gedacht. Dabei kommt es nicht auf Turniererfahrung an. Wir hoffen vielmehr\, dass sich viele verschiedene Hamburger Grundschulen beteiligen. \nHier finden Sie weitere Informationen zur Veranstaltung.
URL:https://www.hsjb.de/termin/hamburger-grundschulschachtag/
LOCATION:Berufliche Schule St. Pauli\, Budapester Straße 58\, Hamburg\, 20359\, Deutschland
CATEGORIES:Grundschulschachtag,Turniere
END:VEVENT
END:VCALENDAR