BEGIN:VCALENDAR
VERSION:2.0
PRODID:-//HSJB - ECPv5.13.0//NONSGML v1.0//EN
CALSCALE:GREGORIAN
METHOD:PUBLISH
X-WR-CALNAME:HSJB
X-ORIGINAL-URL:https://www.hsjb.de
X-WR-CALDESC:Veranstaltungen für HSJB
BEGIN:VTIMEZONE
TZID:Europe/Berlin
BEGIN:DAYLIGHT
TZOFFSETFROM:+0100
TZOFFSETTO:+0200
TZNAME:CEST
DTSTART:20240331T010000
END:DAYLIGHT
BEGIN:STANDARD
TZOFFSETFROM:+0200
TZOFFSETTO:+0100
TZNAME:CET
DTSTART:20241027T010000
END:STANDARD
END:VTIMEZONE
BEGIN:VEVENT
DTSTART;TZID=Europe/Berlin:20241116T133000
DTEND;TZID=Europe/Berlin:20241116T173000
DTSTAMP:20260420T112125
CREATED:20241105T215108Z
LAST-MODIFIED:20241106T194617Z
UID:12310-1731763800-1731778200@www.hsjb.de
SUMMARY:Hamburger Jugend Online Blitzmeisterschaft
DESCRIPTION:Liebe Schachfreunde\, \nder Spielausschuss lädt herzlich alle Jugendlichen und Kinder der Jahrgänge 2004 und jünger zu den diesjährigen Online-Blitz-Meisterschaften ein. \n  \nHamburger Jugend Online Blitzmeisterschaft\nTermin: Samstag\, 16.11.2024\, 13:30 Uhr – ca. 17:30 Uhr\nSpielort: HSJB-Lichess-Team Zugang über https://lichess.org/team/hamburger-schachjugendbund-hsjb\n(Bitte unbedingt Namen und Verein/Schule bei Beitritt mit angeben!)\nModus:\n• 15 Runden Schweizer System\n• Nach 8 Runden gibt es eine 30 Minütige Pause\n• Die Bedenkzeit beträgt 3 Minuten +2 Sekunden ab dem 1. Zug pro Spieler je Partie\n• Alle Altersklassen spielen im selben Turnier\n• Teilnahmeberechtigt sind alle Hamburger Jugendlichen des Jahrgangs 2004 und Jünger \nPreise:\n• Pokale für die Plätze 1-3\n• Pokale für den besten/die beste U18 (2006/2007)\, U16 (2008/2009)\, U14 (2010/2011)\, U12 (2012/2013) und U10 (2014 und jünger)\n• Pokale für das beste Mädchen U20 (2004 – 2007)\, U16 (2008 – 2011) und U12 (2012 und jünger)\n• keine „Doppelpreise“\n• Pokalübergabe wenn möglich im Rahmen der HJET 2025 \nHinweis:\nDas Turnier wird vor dem Turniertag erstellt\, aber der Code zum Beitreten wird erst am Turniertag über eine Teamnachricht bekannt gegeben\, damit Spieler sich nicht anmelden und dann doch nicht erscheinen. \nKontakt:\nPer Mail an: spielausschuss [at] hsjb [dot] de oder\nLichess Privat-Chat an den Account Spielausschuss: https://lichess.org/@/Spielausschuss
URL:https://www.hsjb.de/termin/hamburger-jugend-online-blitzmeisterschaft-2/
LOCATION:Lichess
CATEGORIES:HJBM,Turniere
END:VEVENT
END:VCALENDAR