BEGIN:VCALENDAR
VERSION:2.0
PRODID:-//HSJB - ECPv5.13.0//NONSGML v1.0//EN
CALSCALE:GREGORIAN
METHOD:PUBLISH
X-WR-CALNAME:HSJB
X-ORIGINAL-URL:https://www.hsjb.de
X-WR-CALDESC:Veranstaltungen für HSJB
BEGIN:VTIMEZONE
TZID:Europe/Berlin
BEGIN:DAYLIGHT
TZOFFSETFROM:+0100
TZOFFSETTO:+0200
TZNAME:CEST
DTSTART:20180325T010000
END:DAYLIGHT
BEGIN:STANDARD
TZOFFSETFROM:+0200
TZOFFSETTO:+0100
TZNAME:CET
DTSTART:20181028T010000
END:STANDARD
END:VTIMEZONE
BEGIN:VEVENT
DTSTART;VALUE=DATE:20181130
DTEND;VALUE=DATE:20181201
DTSTAMP:20260422T122615
CREATED:20180819T161131Z
LAST-MODIFIED:20180909T215521Z
UID:3396-1543536000-1543622399@www.hsjb.de
SUMMARY:Hamburger Mannschaftsmeisterschaften im Schulschach 2018/2019 (Klasse 5/6)
DESCRIPTION:Hier finden Sie die Ausschreibung der Veranstaltung: \nAusschreibung HSMM 2018/2019
URL:https://www.hsjb.de/termin/hamburger-mannschaftsmeisterschaften-im-schulschach-2018-2019-klasse-5-6/
LOCATION:Stadtteilschule Barmbek\, Standort Am Stadtpark (Fraenkelstraße)\, Fraenkelstraße 3\, Hamburg\, 22307\, Deutschland
CATEGORIES:HSMM
END:VEVENT
END:VCALENDAR