BEGIN:VCALENDAR
VERSION:2.0
PRODID:-//HSJB - ECPv5.13.0//NONSGML v1.0//EN
CALSCALE:GREGORIAN
METHOD:PUBLISH
X-WR-CALNAME:HSJB
X-ORIGINAL-URL:https://www.hsjb.de
X-WR-CALDESC:Veranstaltungen für HSJB
BEGIN:VTIMEZONE
TZID:Europe/Berlin
BEGIN:DAYLIGHT
TZOFFSETFROM:+0100
TZOFFSETTO:+0200
TZNAME:CEST
DTSTART:20200329T010000
END:DAYLIGHT
BEGIN:STANDARD
TZOFFSETFROM:+0200
TZOFFSETTO:+0100
TZNAME:CET
DTSTART:20201025T010000
END:STANDARD
END:VTIMEZONE
BEGIN:VEVENT
DTSTART;VALUE=DATE:20200829
DTEND;VALUE=DATE:20200831
DTSTAMP:20260422T155412
CREATED:20200816T094328Z
LAST-MODIFIED:20200827T194236Z
UID:6763-1598659200-1598831999@www.hsjb.de
SUMMARY:HJEM U10
DESCRIPTION:Hamburger Jugendeinzelmeisterschaft 2020 der U10. \n8 Teilnehmer (Teilnehmerfeld aufgrund der aktuellen Situation verkleinert)\, gespielt bei Königsspringer. \nAusschreibung
URL:https://www.hsjb.de/termin/hjem-u10/
LOCATION:Clubheim des Königsspringer SC\, Riekbornweg 5\, Hamburg (Schnelsen)\, 22457\, Deutschland
CATEGORIES:HJEM
END:VEVENT
END:VCALENDAR