BEGIN:VCALENDAR
VERSION:2.0
PRODID:-//HSJB - ECPv5.13.0//NONSGML v1.0//EN
CALSCALE:GREGORIAN
METHOD:PUBLISH
X-WR-CALNAME:HSJB
X-ORIGINAL-URL:https://www.hsjb.de
X-WR-CALDESC:Veranstaltungen für HSJB
BEGIN:VTIMEZONE
TZID:Europe/Berlin
BEGIN:DAYLIGHT
TZOFFSETFROM:+0100
TZOFFSETTO:+0200
TZNAME:CEST
DTSTART:20230326T010000
END:DAYLIGHT
BEGIN:STANDARD
TZOFFSETFROM:+0200
TZOFFSETTO:+0100
TZNAME:CET
DTSTART:20231029T010000
END:STANDARD
END:VTIMEZONE
BEGIN:VEVENT
DTSTART;VALUE=DATE:20230805
DTEND;VALUE=DATE:20230813
DTSTAMP:20260419T155734
CREATED:20230124T190434Z
LAST-MODIFIED:20230612T205510Z
UID:10207-1691193600-1691884799@www.hsjb.de
SUMMARY:HSJB Sommerfreizeit 2023 nach Demen - fällt aus -
DESCRIPTION:Die Sommerfreizeit findet leider nicht statt. \n 
URL:https://www.hsjb.de/termin/hsjb-sommerfreizeit-2023-nach-demen/
LOCATION:Freizeithaus Demen\, Fritz-Reuter-Straße 16\, Demen\, Mecklenburg-Vorpommern\, 19089\, Deutschland
CATEGORIES:Freizeitangebote
END:VEVENT
END:VCALENDAR