BEGIN:VCALENDAR
VERSION:2.0
PRODID:-//HSJB - ECPv5.13.0//NONSGML v1.0//EN
CALSCALE:GREGORIAN
METHOD:PUBLISH
X-WR-CALNAME:HSJB
X-ORIGINAL-URL:https://www.hsjb.de
X-WR-CALDESC:Veranstaltungen für HSJB
BEGIN:VTIMEZONE
TZID:Europe/Berlin
BEGIN:DAYLIGHT
TZOFFSETFROM:+0100
TZOFFSETTO:+0200
TZNAME:CEST
DTSTART:20210328T010000
END:DAYLIGHT
BEGIN:STANDARD
TZOFFSETFROM:+0200
TZOFFSETTO:+0100
TZNAME:CET
DTSTART:20211031T010000
END:STANDARD
END:VTIMEZONE
BEGIN:VEVENT
DTSTART;TZID=Europe/Berlin:20210904T133000
DTEND;TZID=Europe/Berlin:20210904T133000
DTSTAMP:20260423T003521
CREATED:20210709T144300Z
LAST-MODIFIED:20210902T120940Z
UID:7726-1630762200-1630762200@www.hsjb.de
SUMMARY:Jugendversammlung 2021
DESCRIPTION:  \nDie Jugendversammlung 2021 ist terminiert. \n\nEinladung (mit Tagesordnung)\nHygienekonzept
URL:https://www.hsjb.de/termin/jugendversammlung-2021/
LOCATION:Grund- und Stadtteilschule Alter Teichweg\, Alter Teichweg 200\, Hamburg\, 22049\, Deutschland
CATEGORIES:Verbandstermine
END:VEVENT
END:VCALENDAR