BEGIN:VCALENDAR
VERSION:2.0
PRODID:-//HSJB - ECPv5.13.0//NONSGML v1.0//EN
CALSCALE:GREGORIAN
METHOD:PUBLISH
X-WR-CALNAME:HSJB
X-ORIGINAL-URL:https://www.hsjb.de
X-WR-CALDESC:Veranstaltungen für HSJB
BEGIN:VTIMEZONE
TZID:Europe/Berlin
BEGIN:DAYLIGHT
TZOFFSETFROM:+0100
TZOFFSETTO:+0200
TZNAME:CEST
DTSTART:20210328T010000
END:DAYLIGHT
BEGIN:STANDARD
TZOFFSETFROM:+0200
TZOFFSETTO:+0100
TZNAME:CET
DTSTART:20211031T010000
END:STANDARD
END:VTIMEZONE
BEGIN:VEVENT
DTSTART;VALUE=DATE:20210822
DTEND;VALUE=DATE:20210825
DTSTAMP:20260423T040001
CREATED:20210804T152346Z
LAST-MODIFIED:20210810T211404Z
UID:7776-1629590400-1629849599@www.hsjb.de
SUMMARY:KiKA-Turnier 2021
DESCRIPTION:Offenes Kinderschachturnier für die Kleinsten während der DJEM\nEinzelturnier in Willingen \nAuch 2021 sollen die Kleinsten wieder beim Kika – Kinder können es auch – Turnier in die Deutsche Jugendeinzelmeisterschaft hineinschnuppern können. Neben 7 Runden wartet wieder ein großes Rahmenprogramm auf alle Teilnehmer. Wir freuen uns auf ein spannendes Turnier mit vielen Teilnehmern. \nDie Deutsche Schachjugend (DSJ) schreibt in diesem Jahr die 14. Auflage des Kinderschach-Turniers Kika (Kinder können’s auch!) parallel zu Beginn der Deutschen Jugendmeisterschaft aus. Neben den Schachspielen wird es wie gewohnt ein umfangreiches Freizeitprogramm für die Kinder geben. Die Mitreise der Eltern ist ausdrücklich erwünscht! \nDie Deutschen Jugendmeisterschaften sind das zentrale Jugendereignis im Jahr – und wir wollen daher auch den Kleinsten in unserer Schachfamilie die Möglichkeit bieten\, an diesem Event teilzunehmen und die einmalige Atmosphäre der Deutschen Jugendeinzelmeisterschaften mitzuerleben. \n  \nInfos und Anmeldung hier bei der DSJ. \nMeldefrist: 10.08.2021
URL:https://www.hsjb.de/termin/kika-turnier-2021/
LOCATION:Sauerland Stern Hotel\, Kneippweg 1\, Willingen\, Hessen\, 34508\, Deutschland
CATEGORIES:Turniere
ORGANIZER;CN="Deutsche%20Schachjugend%20%28DSJ%29":MAILTO:geschaeftsstelle@deutsche-schachjugend.de
END:VEVENT
END:VCALENDAR