BEGIN:VCALENDAR
VERSION:2.0
PRODID:-//HSJB - ECPv5.13.0//NONSGML v1.0//EN
CALSCALE:GREGORIAN
METHOD:PUBLISH
X-WR-CALNAME:HSJB
X-ORIGINAL-URL:https://www.hsjb.de
X-WR-CALDESC:Veranstaltungen für HSJB
BEGIN:VTIMEZONE
TZID:Europe/Berlin
BEGIN:DAYLIGHT
TZOFFSETFROM:+0100
TZOFFSETTO:+0200
TZNAME:CEST
DTSTART:20210328T010000
END:DAYLIGHT
BEGIN:STANDARD
TZOFFSETFROM:+0200
TZOFFSETTO:+0100
TZNAME:CET
DTSTART:20211031T010000
END:STANDARD
END:VTIMEZONE
BEGIN:VEVENT
DTSTART;VALUE=DATE:20211203
DTEND;VALUE=DATE:20211206
DTSTAMP:20260420T123543
CREATED:20211126T193626Z
LAST-MODIFIED:20211126T193626Z
UID:8044-1638489600-1638748799@www.hsjb.de
SUMMARY:Kreativwochenende der DSJ
DESCRIPTION:Ziele\, Inhalte\, Programm\nBeim Planungswochenende wird mit einer kleinen Gruppe Jugendlicher ein schachbezogenes Event geplant. \nDieses Wochenende dient dazu\, kreativen Jugendlichen die Chance zu geben\, eine Veranstaltung oder eine Aktion zu planen\, welche sie schon immer organisieren wollten. Übers Wochenende wird sich dann für eine Idee entschieden\, welche dann über die zwei Tage detailliert ausgearbeitet wird. \nDie Teilnehmenden des Wochenendes werden auch danach noch in die Planung und Organisation mit eingebunden. Das Ziel ist es\, dass die geplante Veranstaltung im kommenden Jahr 2022 ausgerichtet werden kann und bei positiver Rückmeldung sogar auch in den Folgejahren. \nFür wen?\nFür alle Jugendliche im Alter bis 25 Jahren. \nKosten\nEs entstehen keine Kosten auf eurer Seite. Reisekosten könnt ihr im Nachgang bei uns abrechnen. \nAnmeldung bei der DSJ (Link)
URL:https://www.hsjb.de/termin/kreativwochenende-der-dsj/
LOCATION:Jugendherberge Bad Homburg\, Mühlweg 17\, Bad Homburg\, Hessen\, 61348\, Deutschland
CATEGORIES:Fortbildung,Freizeitangebote
ORGANIZER;CN="Deutsche%20Schachjugend%20%28DSJ%29":MAILTO:geschaeftsstelle@deutsche-schachjugend.de
END:VEVENT
END:VCALENDAR