BEGIN:VCALENDAR
VERSION:2.0
PRODID:-//HSJB - ECPv5.13.0//NONSGML v1.0//EN
CALSCALE:GREGORIAN
METHOD:PUBLISH
X-WR-CALNAME:HSJB
X-ORIGINAL-URL:https://www.hsjb.de
X-WR-CALDESC:Veranstaltungen für HSJB
BEGIN:VTIMEZONE
TZID:Europe/Berlin
BEGIN:DAYLIGHT
TZOFFSETFROM:+0100
TZOFFSETTO:+0200
TZNAME:CEST
DTSTART:20200329T010000
END:DAYLIGHT
BEGIN:STANDARD
TZOFFSETFROM:+0200
TZOFFSETTO:+0100
TZNAME:CET
DTSTART:20201025T010000
END:STANDARD
END:VTIMEZONE
BEGIN:VEVENT
DTSTART;VALUE=DATE:20200911
DTEND;VALUE=DATE:20200914
DTSTAMP:20260422T202213
CREATED:20200229T170526Z
LAST-MODIFIED:20200229T170526Z
UID:5992-1599782400-1600041599@www.hsjb.de
SUMMARY:Mädchen- und Frauenschachkongress
DESCRIPTION:[Übernahme von der DSJ-Seite] \nWorkshop in Wals (Österreich)\nMädchen- und Frauenschachkongress XXL \nIn unserem Jubiläumsjahr haben wir für unseren Mädchen- und Frauenschachkongress etwas ganz besonderes geplant: der Kongress wird in diesem Jahr\, unter der Federführung des Österreichischen Schachverbands\, als gemeinsames Projekt der Deutschen Schachjugend\, dem Deutschen Schachbund und dem Schweizer Schachbund\, durchgeführt. Gemeinsam wollen wir uns mit dem Thema Frauenschach im deutschsprachigem Raum auseinandersetzten. Das Programm setzt sich aus den verschiedensten Formaten wie Vorträgen\, Workshops und Projekt-Speeddating zusammen. Die Themen reichen hierbei vom Leistungssportbereich\, bis hin zum Mentaltraining und „Best Practice“ Beispielen aus aller Welt. \nDie Pausen bieten ausreichend Zeit zum intensiven Austausch mit anderen Teilnehmern und Teilnehmerinnen\, und zum mit- und voneinander lernen. \nDie lange Anreise\, für deutsche Teilnehmer und Teilnehmerinnen\, lohnt sich nicht nur inhaltlich: auch eine Stadtführung durch die wunderschöne Salzburger Innenstadt\, verspricht ein unvergessliches Wochenende. \nFür alle von euch\, die Inspirationen zum Thema Mädchen- und Frauenschach suchen\, und sich mit Gleichgesinnten austauschen möchten\, und vor allem alle\, die direkt etwas umsetzen möchten\, ist der Mädchen- und Frauenschachkongress ein absolutes Muss! \nWir freuen uns auf Euch! \nHanna Marie Klek\nReferentin für Mädchenschach \n  \nMeldefrist: 11.08.2020 \nAusschreibung \nInfos und Anmeldung auf der Seite der DSJ
URL:https://www.hsjb.de/termin/maedchen-und-frauenschachkongress/
LOCATION:Hotel Servus Europa\, Grenzwaldweg 1\, Wals\, 5071\, Österreich
CATEGORIES:Fortbildung
ORGANIZER;CN="Deutscher%20Schachbund%20%28DSB%29":MAILTO:info@schachbund.de
END:VEVENT
END:VCALENDAR