BEGIN:VCALENDAR
VERSION:2.0
PRODID:-//HSJB - ECPv5.13.0//NONSGML v1.0//EN
CALSCALE:GREGORIAN
METHOD:PUBLISH
X-WR-CALNAME:HSJB
X-ORIGINAL-URL:https://www.hsjb.de
X-WR-CALDESC:Veranstaltungen für HSJB
BEGIN:VTIMEZONE
TZID:Europe/Berlin
BEGIN:DAYLIGHT
TZOFFSETFROM:+0100
TZOFFSETTO:+0200
TZNAME:CEST
DTSTART:20230326T010000
END:DAYLIGHT
BEGIN:STANDARD
TZOFFSETFROM:+0200
TZOFFSETTO:+0100
TZNAME:CET
DTSTART:20231029T010000
END:STANDARD
END:VTIMEZONE
BEGIN:VEVENT
DTSTART;VALUE=DATE:20230428
DTEND;VALUE=DATE:20230502
DTSTAMP:20260420T105317
CREATED:20230412T181621Z
LAST-MODIFIED:20230412T181621Z
UID:10562-1682640000-1682985599@www.hsjb.de
SUMMARY:Mädchenschachcamp der DSJ
DESCRIPTION:Training in Hamburg \nAn alle schachbegeisterten Mädchen: Wenn Du Lust darauf hast\, vier Tage in Hamburg zusammen mit Gleichaltrigen und viel Rahmenprogramm dein Schach zu verbessern und neue Leute kennenzulernen\, dann bist du bei unserem Mädchencamp genau richtig! Bei uns steht der Spaß im Vordergrund\, und dich erwartet neben etwas Training\, und kleinen Turnieren ein vielfältiges Freizeitprogramm. \nAchtung! Diese Veranstaltung bietet nur 16 Plätze. Über die Teilnahme entscheidet die Reihenfolge der Anmeldungen. \nAusschreibung [PDF] \nMeldefrist: 24.04.2023 \nInfos und Anmeldung auf der Seite der DSJ [Link]
URL:https://www.hsjb.de/termin/maedchenschachcamp-der-dsj/
LOCATION:Jugendherberge Hamburg – Horner Rennbahn\, Rennbahnstr. 100\, Hamburg\, 22111\, Deutschland
CATEGORIES:Fortbildung,Freizeitangebote,Turniere
ORGANIZER;CN="Deutsche%20Schachjugend%20%28DSJ%29":MAILTO:geschaeftsstelle@deutsche-schachjugend.de
END:VEVENT
END:VCALENDAR