BEGIN:VCALENDAR
VERSION:2.0
PRODID:-//HSJB - ECPv5.13.0//NONSGML v1.0//EN
CALSCALE:GREGORIAN
METHOD:PUBLISH
X-WR-CALNAME:HSJB
X-ORIGINAL-URL:https://www.hsjb.de
X-WR-CALDESC:Veranstaltungen für HSJB
BEGIN:VTIMEZONE
TZID:Europe/Berlin
BEGIN:DAYLIGHT
TZOFFSETFROM:+0100
TZOFFSETTO:+0200
TZNAME:CEST
DTSTART:20240331T010000
END:DAYLIGHT
BEGIN:STANDARD
TZOFFSETFROM:+0200
TZOFFSETTO:+0100
TZNAME:CET
DTSTART:20241027T010000
END:STANDARD
END:VTIMEZONE
BEGIN:VEVENT
DTSTART;VALUE=DATE:20241018
DTEND;VALUE=DATE:20241021
DTSTAMP:20260420T105452
CREATED:20240912T222542Z
LAST-MODIFIED:20240912T222542Z
UID:12168-1729209600-1729468799@www.hsjb.de
SUMMARY:Mädchenschachkongress 2024
DESCRIPTION:Workshop in Berlin \nInfos\, Zeitplan und Anmeldung [Link zur DSJ-Seite] \n 
URL:https://www.hsjb.de/termin/maedchenschachkongress-2024/
LOCATION:Gerhard-Schlegel-Sportschule\, Priesterweg 4-6 b\, Berlin\, 10829
CATEGORIES:Fortbildung
ORGANIZER;CN="Deutsche%20Schachjugend%20%28DSJ%29":MAILTO:geschaeftsstelle@deutsche-schachjugend.de
END:VEVENT
END:VCALENDAR