BEGIN:VCALENDAR
VERSION:2.0
PRODID:-//HSJB - ECPv5.13.0//NONSGML v1.0//EN
CALSCALE:GREGORIAN
METHOD:PUBLISH
X-WR-CALNAME:HSJB
X-ORIGINAL-URL:https://www.hsjb.de
X-WR-CALDESC:Veranstaltungen für HSJB
BEGIN:VTIMEZONE
TZID:Europe/Berlin
BEGIN:DAYLIGHT
TZOFFSETFROM:+0100
TZOFFSETTO:+0200
TZNAME:CEST
DTSTART:20210328T010000
END:DAYLIGHT
BEGIN:STANDARD
TZOFFSETFROM:+0200
TZOFFSETTO:+0100
TZNAME:CET
DTSTART:20211031T010000
END:STANDARD
END:VTIMEZONE
BEGIN:VEVENT
DTSTART;TZID=Europe/Berlin:20210904T143000
DTEND;TZID=Europe/Berlin:20210904T143000
DTSTAMP:20260422T230108
CREATED:20210709T144911Z
LAST-MODIFIED:20210902T121048Z
UID:7727-1630765800-1630765800@www.hsjb.de
SUMMARY:Mitgliederversammlung 2021
DESCRIPTION:  \nDie außerordentliche Mitgliederversammlung 2021 ist terminiert. \n\nEinladung (mit Tagesordnung)\nHygienekonzept\nAnträge\n\n  \nAnträge müssen dem 1. Vorsitzenden Olaf Wolna\, E-Mail: olaf [at] hsjb [dot] de vier Wochen vor der Mitgliederversammlung zugegangen sein. (Später eingereichte Anträge können nur als Dringlichkeitsanträge gestellt werden.)
URL:https://www.hsjb.de/termin/mitgliederversammlung-2021/
LOCATION:Grund- und Stadtteilschule Alter Teichweg\, Alter Teichweg 200\, Hamburg\, 22049\, Deutschland
CATEGORIES:Verbandstermine
END:VEVENT
END:VCALENDAR