BEGIN:VCALENDAR
VERSION:2.0
PRODID:-//HSJB - ECPv5.13.0//NONSGML v1.0//EN
CALSCALE:GREGORIAN
METHOD:PUBLISH
X-WR-CALNAME:HSJB
X-ORIGINAL-URL:https://www.hsjb.de
X-WR-CALDESC:Veranstaltungen für HSJB
BEGIN:VTIMEZONE
TZID:Europe/Berlin
BEGIN:DAYLIGHT
TZOFFSETFROM:+0100
TZOFFSETTO:+0200
TZNAME:CEST
DTSTART:20210328T010000
END:DAYLIGHT
BEGIN:STANDARD
TZOFFSETFROM:+0200
TZOFFSETTO:+0100
TZNAME:CET
DTSTART:20211031T010000
END:STANDARD
END:VTIMEZONE
BEGIN:VEVENT
DTSTART;TZID=Europe/Berlin:20210606T140000
DTEND;TZID=Europe/Berlin:20210606T190000
DTSTAMP:20260419T173419
CREATED:20210507T232245Z
LAST-MODIFIED:20210513T161833Z
UID:7646-1622988000-1623006000@www.hsjb.de
SUMMARY:Online-HJMM 2021
DESCRIPTION:HJMM 2021 – ONLINE \nDie Saison 2020/2021 steht im Zeichen der Pandemie und der Online-Turniere. Auch die HJMM bleibt davon nicht verschont. Im Gegenteil\, wir haben uns dazu entschieden\, die regulären Spielklassen erst gar nicht auszuschreiben\, da wir keine realistische Perspektive für die Ausrichtung gesehen haben. \nAls kleinen Ersatz und Trost wollen wir aber trotzdem ein Online-Mannschaftsturnier für euch auf die Beine stellen! Am 06.06.21 spielen wir also die Online-HJMM 2021 aus. \nEs wird in vierer Mannschaften Schnellschach mit einer Bedenkzeit von 15 Minuten + 2 Sekunden gespielt.\nDas Ziel ist\, angelehnt an die üblichen Spielklassen\, unterschiedliche starke Gruppe zu bilden\, in denen dann jeweils ein Sieger gekürt wird und einen Pokal mit nach Hause nimmt. \nInformationen zur Anmeldung sind hier in der Ausschreibung zu finden:\nHSJB-Online-HJMM 2021 Ausschreibung \nBei Fragen meldet euch gerne bei hjmm [at] hjsb [dot] de
URL:https://www.hsjb.de/termin/online-hjmm-2021/
LOCATION:Hamburg\, Hamburg\, Deutschland
CATEGORIES:HJMM,Turniere
END:VEVENT
END:VCALENDAR