BEGIN:VCALENDAR
VERSION:2.0
PRODID:-//HSJB - ECPv5.13.0//NONSGML v1.0//EN
CALSCALE:GREGORIAN
METHOD:PUBLISH
X-WR-CALNAME:HSJB
X-ORIGINAL-URL:https://www.hsjb.de
X-WR-CALDESC:Veranstaltungen für HSJB
BEGIN:VTIMEZONE
TZID:Europe/Berlin
BEGIN:DAYLIGHT
TZOFFSETFROM:+0100
TZOFFSETTO:+0200
TZNAME:CEST
DTSTART:20240331T010000
END:DAYLIGHT
BEGIN:STANDARD
TZOFFSETFROM:+0200
TZOFFSETTO:+0100
TZNAME:CET
DTSTART:20241027T010000
END:STANDARD
END:VTIMEZONE
BEGIN:VEVENT
DTSTART;TZID=Europe/Berlin:20240626T100000
DTEND;TZID=Europe/Berlin:20240626T130000
DTSTAMP:20260421T131947
CREATED:20240603T161840Z
LAST-MODIFIED:20240603T161840Z
UID:12004-1719396000-1719406800@www.hsjb.de
SUMMARY:Rechtes Alsterufer gegen linkes Alsterufer
DESCRIPTION:Weitere Infos unter alsteruferturnier.de!
URL:https://www.hsjb.de/termin/rechtes-alsterufer-gegen-linkes-alsterufer-5/
LOCATION:Rathausmarkt Hamburg\, Rathausmarkt\, Hamburg\, 20095\, Deutschland
CATEGORIES:Turniere
END:VEVENT
END:VCALENDAR