BEGIN:VCALENDAR
VERSION:2.0
PRODID:-//HSJB - ECPv5.13.0//NONSGML v1.0//EN
CALSCALE:GREGORIAN
METHOD:PUBLISH
X-WR-CALNAME:HSJB
X-ORIGINAL-URL:https://www.hsjb.de
X-WR-CALDESC:Veranstaltungen für HSJB
BEGIN:VTIMEZONE
TZID:Europe/Berlin
BEGIN:DAYLIGHT
TZOFFSETFROM:+0100
TZOFFSETTO:+0200
TZNAME:CEST
DTSTART:20180325T010000
END:DAYLIGHT
BEGIN:STANDARD
TZOFFSETFROM:+0200
TZOFFSETTO:+0100
TZNAME:CET
DTSTART:20181028T010000
END:STANDARD
END:VTIMEZONE
BEGIN:VEVENT
DTSTART;TZID=Europe/Berlin:20180810T180000
DTEND;TZID=Europe/Berlin:20180810T180000
DTSTAMP:20260424T103311
CREATED:20180721T012826Z
LAST-MODIFIED:20180809T232630Z
UID:3321-1533924000-1533924000@www.hsjb.de
SUMMARY:Schach mit Lukas Muths zugunsten krebskranker Kinder
DESCRIPTION:Ausschreibung \nab 18:00 Uhr
URL:https://www.hsjb.de/termin/schach-mit-lukas-muths-zugunsten-krebskranker-kinder/
LOCATION:Schach-Café Rübenkamp\, Rübenkamp 227\, Hamburg\, 22307\, Deutschland
CATEGORIES:Freizeitangebote
END:VEVENT
END:VCALENDAR