BEGIN:VCALENDAR
VERSION:2.0
PRODID:-//HSJB - ECPv5.13.0//NONSGML v1.0//EN
CALSCALE:GREGORIAN
METHOD:PUBLISH
X-WR-CALNAME:HSJB
X-ORIGINAL-URL:https://www.hsjb.de
X-WR-CALDESC:Veranstaltungen für HSJB
BEGIN:VTIMEZONE
TZID:Europe/Berlin
BEGIN:DAYLIGHT
TZOFFSETFROM:+0100
TZOFFSETTO:+0200
TZNAME:CEST
DTSTART:20190331T010000
END:DAYLIGHT
BEGIN:STANDARD
TZOFFSETFROM:+0200
TZOFFSETTO:+0100
TZNAME:CET
DTSTART:20191027T010000
END:STANDARD
END:VTIMEZONE
BEGIN:VEVENT
DTSTART;TZID=Europe/Berlin:20191207T090000
DTEND;TZID=Europe/Berlin:20191207T170000
DTSTAMP:20260422T224216
CREATED:20190810T224230Z
LAST-MODIFIED:20190911T164042Z
UID:5121-1575709200-1575738000@www.hsjb.de
SUMMARY:Schachkonferenz „Springer\, Dame\, König\, matt!“
DESCRIPTION:Bildungsgipfel – Schach als Instrument der Bildung \nFür alle diejenigen aus Verwaltung und Politik\, die sich interessieren für Schach in Schule oder Kita. Und für alle Schulleitungen\, didaktischen Leitungen und Ganztagesplaner\, die Schach in der Schule anbieten (möchten) und sich mit anderem vernetzen wollen. Sie wollen wissen\, wie Schach in der Schule oder im Kita geht? Vorträge\, Workshops\, Diskussionen erwarten Sie. Kommen Sie nach Hamburg\, bekommen Sie alle Fragen an einem Fleck beantwortet! \nInfos und Programm \nAnmeldung
URL:https://www.hsjb.de/termin/schachkonferenz-springer-dame-koenig-matt/
LOCATION:Handelskammer Hamburg\, Adolphsplatz 1\, Hamburg\, 20457\, Deutschland
END:VEVENT
END:VCALENDAR