BEGIN:VCALENDAR
VERSION:2.0
PRODID:-//HSJB - ECPv5.13.0//NONSGML v1.0//EN
CALSCALE:GREGORIAN
METHOD:PUBLISH
X-WR-CALNAME:HSJB
X-ORIGINAL-URL:https://www.hsjb.de
X-WR-CALDESC:Veranstaltungen für HSJB
BEGIN:VTIMEZONE
TZID:Europe/Berlin
BEGIN:DAYLIGHT
TZOFFSETFROM:+0100
TZOFFSETTO:+0200
TZNAME:CEST
DTSTART:20190331T010000
END:DAYLIGHT
BEGIN:STANDARD
TZOFFSETFROM:+0200
TZOFFSETTO:+0100
TZNAME:CET
DTSTART:20191027T010000
END:STANDARD
END:VTIMEZONE
BEGIN:VEVENT
DTSTART;TZID=Europe/Berlin:20191026T091500
DTEND;TZID=Europe/Berlin:20191026T180000
DTSTAMP:20260420T105337
CREATED:20190925T145203Z
LAST-MODIFIED:20190925T145305Z
UID:5233-1572081300-1572112800@www.hsjb.de
SUMMARY:SKJE U13-Open 2019
DESCRIPTION:Der Schachklub Johanneum Eppendorf richtet sein U13-Schnellturnier Ende Oktober aus. Hier gehts zur Ausschreibung…
URL:https://www.hsjb.de/termin/skje-u13-open-2019/
LOCATION:Wilhelm-Gymnasium Oberstufenhaus\, Klosterstieg 17\, Hamburg\, 20149\, Deutschland
END:VEVENT
END:VCALENDAR