BEGIN:VCALENDAR
VERSION:2.0
PRODID:-//HSJB - ECPv5.13.0//NONSGML v1.0//EN
CALSCALE:GREGORIAN
METHOD:PUBLISH
X-WR-CALNAME:HSJB
X-ORIGINAL-URL:https://www.hsjb.de
X-WR-CALDESC:Veranstaltungen für HSJB
BEGIN:VTIMEZONE
TZID:Europe/Berlin
BEGIN:DAYLIGHT
TZOFFSETFROM:+0100
TZOFFSETTO:+0200
TZNAME:CEST
DTSTART:20190331T010000
END:DAYLIGHT
BEGIN:STANDARD
TZOFFSETFROM:+0200
TZOFFSETTO:+0100
TZNAME:CET
DTSTART:20191027T010000
END:STANDARD
END:VTIMEZONE
BEGIN:VEVENT
DTSTART;VALUE=DATE:20190704
DTEND;VALUE=DATE:20190705
DTSTAMP:20260420T123531
CREATED:20190612T145235Z
LAST-MODIFIED:20190613T100602Z
UID:4920-1562198400-1562284799@www.hsjb.de
SUMMARY:Sommerferienaktion - Spaßturnier
DESCRIPTION:In diesem Jahr erstmalig eine HSJB-Sommerferienaktion mit vier unabhängigen Terminen. Meldet euch einfach zu euren Wunschterminen an. Näheres ist der Ausschreibung zu entnehmen! \nAusschreibung: HSJB-Sommerferienaktion
URL:https://www.hsjb.de/termin/sommerferienaktion-spassturnier/
LOCATION:Clubheim des Königsspringer SC\, Riekbornweg 5\, Hamburg (Schnelsen)\, 22457\, Deutschland
CATEGORIES:Freizeitangebote
END:VEVENT
END:VCALENDAR