BEGIN:VCALENDAR
VERSION:2.0
PRODID:-//HSJB - ECPv5.13.0//NONSGML v1.0//EN
CALSCALE:GREGORIAN
METHOD:PUBLISH
X-WR-CALNAME:HSJB
X-ORIGINAL-URL:https://www.hsjb.de
X-WR-CALDESC:Veranstaltungen für HSJB
BEGIN:VTIMEZONE
TZID:Europe/Berlin
BEGIN:DAYLIGHT
TZOFFSETFROM:+0100
TZOFFSETTO:+0200
TZNAME:CEST
DTSTART:20210328T010000
END:DAYLIGHT
BEGIN:STANDARD
TZOFFSETFROM:+0200
TZOFFSETTO:+0100
TZNAME:CET
DTSTART:20211031T010000
END:STANDARD
END:VTIMEZONE
BEGIN:VEVENT
DTSTART;TZID=Europe/Berlin:20210619T100000
DTEND;TZID=Europe/Berlin:20210620T160000
DTSTAMP:20260421T133132
CREATED:20210616T111657Z
LAST-MODIFIED:20210616T134034Z
UID:7681-1624096800-1624204800@www.hsjb.de
SUMMARY:Sonderklasse U12
DESCRIPTION:In der Sonderklasse U12 spielen drei Vereine die Qualifikation zur Norddeutschen Vereinsmannschaftsmeisterschaft aus. \nDabei sind der Hamburger SK\, Königsspringer und der SKJE. \nAm Samstag geht es um 10 Uhr mit der ersten Runde los. Anschließend findet am selben Tag die zweite Runde statt. Die dritte Runde wird ab Sonntag um 11 Uhr ausgetragen. Wir spielen im Königsspringer-Klubheim. \nDas letzte Präsenzturnier in Hamburg ist schon fast ein Jahr her\, weshalb wir uns natürlich alle umso mehr auf diese Tage freuen. Es wurde ein umfangreiches Hygiene- und Schutzkonzept entwickelt\, damit es für alle Beteiligten sicher ist.
URL:https://www.hsjb.de/termin/sonderklasse-u12/
LOCATION:Clubheim des Königsspringer SC\, Riekbornweg 5\, Hamburg (Schnelsen)\, 22457\, Deutschland
CATEGORIES:HJMM
END:VEVENT
END:VCALENDAR