BEGIN:VCALENDAR
VERSION:2.0
PRODID:-//HSJB - ECPv5.13.0//NONSGML v1.0//EN
CALSCALE:GREGORIAN
METHOD:PUBLISH
X-WR-CALNAME:HSJB
X-ORIGINAL-URL:https://www.hsjb.de
X-WR-CALDESC:Veranstaltungen für HSJB
BEGIN:VTIMEZONE
TZID:Europe/Berlin
BEGIN:DAYLIGHT
TZOFFSETFROM:+0100
TZOFFSETTO:+0200
TZNAME:CEST
DTSTART:20200329T010000
END:DAYLIGHT
BEGIN:STANDARD
TZOFFSETFROM:+0200
TZOFFSETTO:+0100
TZNAME:CET
DTSTART:20201025T010000
END:STANDARD
END:VTIMEZONE
BEGIN:VEVENT
DTSTART;TZID=Europe/Berlin:20200131T093000
DTEND;TZID=Europe/Berlin:20200131T170000
DTSTAMP:20260423T084525
CREATED:20200113T223958Z
LAST-MODIFIED:20200114T132153Z
UID:5696-1580463000-1580490000@www.hsjb.de
SUMMARY:Springer-Pokal 2020
DESCRIPTION:29. Schnellturnier für Schulmannschaften um den Springer-Pokal 2020\nfür alle Schulmannschaften der Wettkampfklassen WK II (geb. 01.01.2003 oder später)\, WK III (geb. 01.01.2005 oder später)\, WK IV (geb. 01.01.2007 oder später) und Grundschulen (bis 4. Klasse).\nEine Mannschaft besteht aus 4 Schülerinnen oder Schülern\, die alle dieselbe Schule besuchen. Der Einsatz von bis zu zwei Ersatzspielern ist erlaubt. Fremdspieler sind nicht zugelassen.\nJede Schule darf mehrere Mannschaften melden. Das Turnier ist auch für Mannschaften auf Anfängerlevel geeignet!  🙂 Die Gesamtzahl ist auf 90 Mannschaften begrenzt. Im kritischen Fall entscheidet der Zeitpunkt der Anmeldung. \n\nSpringer-Pokal 2020-Ausschreibung
URL:https://www.hsjb.de/termin/springer-pokal-2020/
LOCATION:Wichern-Schule\, Horner Weg 164\, Hamburg (Horn)\, 22111\, Deutschland
CATEGORIES:Turniere
END:VEVENT
END:VCALENDAR